Package: PCAtools Version: 2.23.0 Command: /home/biocbuild/bbs-3.23-bioc/R/bin/R CMD INSTALL PCAtools StartedAt: 2025-11-24 15:53:18 -0500 (Mon, 24 Nov 2025) EndedAt: 2025-11-24 15:53:53 -0500 (Mon, 24 Nov 2025) EllapsedTime: 34.7 seconds RetCode: 0 Status: OK