Package: PIUMA Version: 1.7.0 Command: /Library/Frameworks/R.framework/Resources/bin/R CMD INSTALL PIUMA StartedAt: 2025-11-18 15:25:20 -0500 (Tue, 18 Nov 2025) EndedAt: 2025-11-18 15:25:32 -0500 (Tue, 18 Nov 2025) EllapsedTime: 12.0 seconds RetCode: 0 Status: OK