Package: PathNet Version: 1.51.0 Command: /Library/Frameworks/R.framework/Resources/bin/R CMD INSTALL PathNet StartedAt: 2025-11-19 15:02:55 -0500 (Wed, 19 Nov 2025) EndedAt: 2025-11-19 15:02:57 -0500 (Wed, 19 Nov 2025) EllapsedTime: 1.6 seconds RetCode: 0 Status: OK