Package: PathNet Version: 1.51.0 Command: /Library/Frameworks/R.framework/Resources/bin/R CMD build --keep-empty-dirs --no-resave-data PathNet StartedAt: 2025-11-25 18:19:52 -0500 (Tue, 25 Nov 2025) EndedAt: 2025-11-25 18:21:22 -0500 (Tue, 25 Nov 2025) EllapsedTime: 89.8 seconds RetCode: 0 Status: OK PackageFile: PathNet_1.51.0.tar.gz PackageFileSize: 823.1 KiB