Package: PathNet Version: 1.51.0 Command: /Library/Frameworks/R.framework/Resources/bin/R CMD INSTALL PathNet StartedAt: 2025-11-25 15:21:59 -0500 (Tue, 25 Nov 2025) EndedAt: 2025-11-25 15:22:19 -0500 (Tue, 25 Nov 2025) EllapsedTime: 19.2 seconds RetCode: 0 Status: OK