Package: ProtGenerics Version: 1.43.0 Command: rm -rf ProtGenerics.buildbin-libdir && mkdir ProtGenerics.buildbin-libdir && /Users/biocbuild/BBS/utils/build-universal.sh ProtGenerics_1.43.0.tar.gz /Library/Frameworks/R.framework/Resources/bin/R ProtGenerics.buildbin-libdir StartedAt: 2025-11-19 23:47:33 -0500 (Wed, 19 Nov 2025) EndedAt: 2025-11-19 23:47:37 -0500 (Wed, 19 Nov 2025) EllapsedTime: 3.1 seconds RetCode: 0 Status: OK PackageFile: ProtGenerics_1.43.0.tgz PackageFileSize: 247.6 KiB