Package: ProtGenerics Version: 1.43.0 Command: /Library/Frameworks/R.framework/Resources/bin/R CMD build --keep-empty-dirs --no-resave-data ProtGenerics StartedAt: 2025-11-19 17:21:23 -0500 (Wed, 19 Nov 2025) EndedAt: 2025-11-19 17:21:24 -0500 (Wed, 19 Nov 2025) EllapsedTime: 1.0 seconds RetCode: 0 Status: OK PackageFile: ProtGenerics_1.43.0.tar.gz PackageFileSize: 10.88 KiB