Package: QuaternaryProd Version: 1.45.0 Command: /Library/Frameworks/R.framework/Resources/bin/R CMD build --keep-empty-dirs --no-resave-data QuaternaryProd StartedAt: 2025-11-18 17:32:31 -0500 (Tue, 18 Nov 2025) EndedAt: 2025-11-18 17:35:06 -0500 (Tue, 18 Nov 2025) EllapsedTime: 154.9 seconds RetCode: 0 Status: OK PackageFile: QuaternaryProd_1.45.0.tar.gz PackageFileSize: 10.75 MiB