Package: QuaternaryProd Version: 1.45.0 Command: /Library/Frameworks/R.framework/Resources/bin/R CMD INSTALL QuaternaryProd StartedAt: 2025-11-18 15:15:42 -0500 (Tue, 18 Nov 2025) EndedAt: 2025-11-18 15:15:51 -0500 (Tue, 18 Nov 2025) EllapsedTime: 8.2 seconds RetCode: 0 Status: OK