Package: RGraph2js Version: 1.39.0 Command: /Library/Frameworks/R.framework/Resources/bin/R CMD INSTALL RGraph2js StartedAt: 2025-11-18 15:17:27 -0500 (Tue, 18 Nov 2025) EndedAt: 2025-11-18 15:17:28 -0500 (Tue, 18 Nov 2025) EllapsedTime: 1.3 seconds RetCode: 0 Status: OK