Package: RGraph2js Version: 1.39.0 Command: /Library/Frameworks/R.framework/Resources/bin/R CMD INSTALL RGraph2js StartedAt: 2025-11-19 15:20:07 -0500 (Wed, 19 Nov 2025) EndedAt: 2025-11-19 15:20:14 -0500 (Wed, 19 Nov 2025) EllapsedTime: 6.9 seconds RetCode: 0 Status: OK