Package: RGraph2js Version: 1.39.0 Command: /home/biocbuild/bbs-3.23-bioc/R/bin/R CMD INSTALL RGraph2js StartedAt: 2025-11-18 16:04:37 -0500 (Tue, 18 Nov 2025) EndedAt: 2025-11-18 16:04:41 -0500 (Tue, 18 Nov 2025) EllapsedTime: 3.1 seconds RetCode: 0 Status: OK