Package: RNAmodR.ML Version: 1.25.0 Command: /Library/Frameworks/R.framework/Resources/bin/R CMD INSTALL RNAmodR.ML StartedAt: 2025-11-19 15:49:24 -0500 (Wed, 19 Nov 2025) EndedAt: 2025-11-19 15:49:26 -0500 (Wed, 19 Nov 2025) EllapsedTime: 1.8 seconds RetCode: 1 Status: ERROR