Package: RNAmodR.ML Version: 1.25.0 Command: /home/biocbuild/bbs-3.23-bioc/R/bin/R CMD INSTALL RNAmodR.ML StartedAt: 2025-11-19 15:51:47 -0500 (Wed, 19 Nov 2025) EndedAt: 2025-11-19 15:52:46 -0500 (Wed, 19 Nov 2025) EllapsedTime: 58.7 seconds RetCode: 0 Status: OK