Package: RNAmodR.RiboMethSeq Version: 1.25.0 Command: /Library/Frameworks/R.framework/Resources/bin/R CMD build --keep-empty-dirs --no-resave-data RNAmodR.RiboMethSeq StartedAt: 2025-11-19 17:29:14 -0500 (Wed, 19 Nov 2025) EndedAt: 2025-11-19 17:29:15 -0500 (Wed, 19 Nov 2025) EllapsedTime: 1.0 seconds RetCode: 1 Status: ERROR PackageFile: None PackageFileSize: NA