Package: RNAmodR.RiboMethSeq Version: 1.25.0 Command: /Library/Frameworks/R.framework/Resources/bin/R CMD INSTALL RNAmodR.RiboMethSeq StartedAt: 2025-11-19 15:27:58 -0500 (Wed, 19 Nov 2025) EndedAt: 2025-11-19 15:27:59 -0500 (Wed, 19 Nov 2025) EllapsedTime: 1.0 seconds RetCode: 1 Status: ERROR