Package: RTCGAToolbox Version: 2.41.0 Command: /Library/Frameworks/R.framework/Resources/bin/R CMD INSTALL RTCGAToolbox StartedAt: 2025-11-18 15:33:21 -0500 (Tue, 18 Nov 2025) EndedAt: 2025-11-18 15:33:31 -0500 (Tue, 18 Nov 2025) EllapsedTime: 9.9 seconds RetCode: 0 Status: OK