Package: RTCGAToolbox Version: 2.41.0 Command: rm -rf RTCGAToolbox.buildbin-libdir && mkdir RTCGAToolbox.buildbin-libdir && /Users/biocbuild/BBS/utils/build-universal.sh RTCGAToolbox_2.41.0.tar.gz /Library/Frameworks/R.framework/Resources/bin/R RTCGAToolbox.buildbin-libdir StartedAt: 2025-11-19 01:49:23 -0500 (Wed, 19 Nov 2025) EndedAt: 2025-11-19 01:50:01 -0500 (Wed, 19 Nov 2025) EllapsedTime: 38.1 seconds RetCode: 0 Status: OK PackageFile: RTCGAToolbox_2.41.0.tgz PackageFileSize: 630 KiB