Package: RTCGAToolbox Version: 2.41.0 Command: /Library/Frameworks/R.framework/Resources/bin/R CMD build --keep-empty-dirs --no-resave-data RTCGAToolbox StartedAt: 2025-11-18 18:27:05 -0500 (Tue, 18 Nov 2025) EndedAt: 2025-11-18 18:27:58 -0500 (Tue, 18 Nov 2025) EllapsedTime: 52.5 seconds RetCode: 0 Status: OK PackageFile: RTCGAToolbox_2.41.0.tar.gz PackageFileSize: 2.329 MiB