Package: RTCGAToolbox Version: 2.41.0 Command: /Library/Frameworks/R.framework/Resources/bin/R CMD INSTALL RTCGAToolbox StartedAt: 2025-11-18 15:42:04 -0500 (Tue, 18 Nov 2025) EndedAt: 2025-11-18 15:42:37 -0500 (Tue, 18 Nov 2025) EllapsedTime: 33.2 seconds RetCode: 0 Status: OK