Package: RTCGAToolbox Version: 2.41.0 Command: /home/biocbuild/bbs-3.23-bioc/R/bin/R CMD build --keep-empty-dirs --no-resave-data RTCGAToolbox StartedAt: 2025-11-19 19:46:37 -0500 (Wed, 19 Nov 2025) EndedAt: 2025-11-19 19:47:20 -0500 (Wed, 19 Nov 2025) EllapsedTime: 43.0 seconds RetCode: 0 Status: OK PackageFile: RTCGAToolbox_2.41.0.tar.gz PackageFileSize: 2.33 MiB