Package: RTCGAToolbox Version: 2.41.0 Command: /home/biocbuild/bbs-3.23-bioc/R/bin/R CMD INSTALL RTCGAToolbox StartedAt: 2025-11-19 15:47:14 -0500 (Wed, 19 Nov 2025) EndedAt: 2025-11-19 15:47:38 -0500 (Wed, 19 Nov 2025) EllapsedTime: 24.0 seconds RetCode: 0 Status: OK