Package: ReactomeGSA Version: 1.25.0 Command: rm -rf ReactomeGSA.buildbin-libdir && mkdir ReactomeGSA.buildbin-libdir && /Users/biocbuild/BBS/utils/build-universal.sh ReactomeGSA_1.25.0.tar.gz /Library/Frameworks/R.framework/Resources/bin/R ReactomeGSA.buildbin-libdir StartedAt: 2025-11-19 23:48:36 -0500 (Wed, 19 Nov 2025) EndedAt: 2025-11-19 23:48:41 -0500 (Wed, 19 Nov 2025) EllapsedTime: 5.1 seconds RetCode: 0 Status: OK PackageFile: ReactomeGSA_1.25.0.tgz PackageFileSize: 763.9 KiB