Package: ReactomeGSA Version: 1.25.0 Command: /Library/Frameworks/R.framework/Resources/bin/R CMD build --keep-empty-dirs --no-resave-data ReactomeGSA StartedAt: 2025-11-18 17:35:03 -0500 (Tue, 18 Nov 2025) EndedAt: 2025-11-18 17:39:17 -0500 (Tue, 18 Nov 2025) EllapsedTime: 253.9 seconds RetCode: 0 Status: OK PackageFile: ReactomeGSA_1.25.0.tar.gz PackageFileSize: 400.1 KiB