Package: ReactomeGSA Version: 1.25.0 Command: /Library/Frameworks/R.framework/Resources/bin/R CMD INSTALL ReactomeGSA StartedAt: 2025-11-18 15:47:21 -0500 (Tue, 18 Nov 2025) EndedAt: 2025-11-18 15:47:34 -0500 (Tue, 18 Nov 2025) EllapsedTime: 13.1 seconds RetCode: 0 Status: OK