Package: ReactomePA Version: 1.55.0 Command: /Library/Frameworks/R.framework/Resources/bin/R CMD INSTALL ReactomePA StartedAt: 2025-11-18 15:34:52 -0500 (Tue, 18 Nov 2025) EndedAt: 2025-11-18 15:35:01 -0500 (Tue, 18 Nov 2025) EllapsedTime: 9.4 seconds RetCode: 0 Status: OK