Package: ReactomePA Version: 1.55.0 Command: rm -rf ReactomePA.buildbin-libdir && mkdir ReactomePA.buildbin-libdir && /Users/biocbuild/BBS/utils/build-universal.sh ReactomePA_1.55.0.tar.gz /Library/Frameworks/R.framework/Resources/bin/R ReactomePA.buildbin-libdir StartedAt: 2025-11-20 01:51:08 -0500 (Thu, 20 Nov 2025) EndedAt: 2025-11-20 01:51:44 -0500 (Thu, 20 Nov 2025) EllapsedTime: 35.6 seconds RetCode: 0 Status: OK PackageFile: ReactomePA_1.55.0.tgz PackageFileSize: 92.75 KiB