Package: ReactomePA Version: 1.55.0 Command: /Library/Frameworks/R.framework/Resources/bin/R CMD build --keep-empty-dirs --no-resave-data ReactomePA StartedAt: 2025-11-19 18:22:49 -0500 (Wed, 19 Nov 2025) EndedAt: 2025-11-19 18:23:27 -0500 (Wed, 19 Nov 2025) EllapsedTime: 37.8 seconds RetCode: 0 Status: OK PackageFile: ReactomePA_1.55.0.tar.gz PackageFileSize: 57.2 KiB