Package: ReactomePA Version: 1.55.0 Command: /Library/Frameworks/R.framework/Resources/bin/R CMD INSTALL ReactomePA StartedAt: 2025-11-19 15:46:39 -0500 (Wed, 19 Nov 2025) EndedAt: 2025-11-19 15:47:11 -0500 (Wed, 19 Nov 2025) EllapsedTime: 31.5 seconds RetCode: 0 Status: OK