Package: RedisParam Version: 1.13.0 Command: /Library/Frameworks/R.framework/Resources/bin/R CMD INSTALL RedisParam StartedAt: 2025-11-18 15:16:53 -0500 (Tue, 18 Nov 2025) EndedAt: 2025-11-18 15:17:02 -0500 (Tue, 18 Nov 2025) EllapsedTime: 8.2 seconds RetCode: 0 Status: OK