Package: Rhdf5lib Version: 1.33.0 Command: rm -rf Rhdf5lib.buildbin-libdir && mkdir Rhdf5lib.buildbin-libdir && /Users/biocbuild/BBS/utils/build-universal.sh Rhdf5lib_1.33.0.tar.gz /Library/Frameworks/R.framework/Resources/bin/R Rhdf5lib.buildbin-libdir StartedAt: 2025-11-19 23:49:16 -0500 (Wed, 19 Nov 2025) EndedAt: 2025-11-19 23:52:00 -0500 (Wed, 19 Nov 2025) EllapsedTime: 164.3 seconds RetCode: 0 Status: OK PackageFile: Rhdf5lib_1.33.0.tgz PackageFileSize: 10.15 MiB