Package: Rhdf5lib Version: 1.33.0 Command: /Library/Frameworks/R.framework/Resources/bin/R CMD INSTALL Rhdf5lib StartedAt: 2025-11-18 15:12:00 -0500 (Tue, 18 Nov 2025) EndedAt: 2025-11-18 15:13:44 -0500 (Tue, 18 Nov 2025) EllapsedTime: 103.9 seconds RetCode: 0 Status: OK