Package: Rhdf5lib Version: 1.33.0 Command: /Library/Frameworks/R.framework/Resources/bin/R CMD INSTALL Rhdf5lib StartedAt: 2025-11-19 15:11:10 -0500 (Wed, 19 Nov 2025) EndedAt: 2025-11-19 15:17:23 -0500 (Wed, 19 Nov 2025) EllapsedTime: 372.5 seconds RetCode: 0 Status: OK