Package: Rhdf5lib Version: 1.33.0 Command: /home/biocbuild/bbs-3.23-bioc/R/bin/R CMD build --keep-empty-dirs --no-resave-data Rhdf5lib StartedAt: 2025-11-19 19:39:07 -0500 (Wed, 19 Nov 2025) EndedAt: 2025-11-19 19:42:49 -0500 (Wed, 19 Nov 2025) EllapsedTime: 222.2 seconds RetCode: 0 Status: OK PackageFile: Rhdf5lib_1.33.0.tar.gz PackageFileSize: 11.5 MiB