Package: Rhtslib Version: 3.7.0 Command: rm -rf Rhtslib.buildbin-libdir && mkdir Rhtslib.buildbin-libdir && /Users/biocbuild/BBS/utils/build-universal.sh Rhtslib_3.7.0.tar.gz /Library/Frameworks/R.framework/Resources/bin/R Rhtslib.buildbin-libdir StartedAt: 2025-11-22 01:53:09 -0500 (Sat, 22 Nov 2025) EndedAt: 2025-11-22 01:54:09 -0500 (Sat, 22 Nov 2025) EllapsedTime: 59.9 seconds RetCode: 0 Status: OK PackageFile: Rhtslib_3.7.0.tgz PackageFileSize: 3.323 MiB