Package: Rhtslib Version: 3.7.0 Command: /Library/Frameworks/R.framework/Resources/bin/R CMD INSTALL Rhtslib StartedAt: 2025-11-21 15:10:56 -0500 (Fri, 21 Nov 2025) EndedAt: 2025-11-21 15:11:32 -0500 (Fri, 21 Nov 2025) EllapsedTime: 36.1 seconds RetCode: 0 Status: OK