Package: Rigraphlib Version: 1.3.1 Command: /Library/Frameworks/R.framework/Resources/bin/R CMD INSTALL Rigraphlib StartedAt: 2025-11-18 15:13:45 -0500 (Tue, 18 Nov 2025) EndedAt: 2025-11-18 15:15:13 -0500 (Tue, 18 Nov 2025) EllapsedTime: 88.2 seconds RetCode: 0 Status: OK