Package: Rigraphlib Version: 1.3.1 Command: /Library/Frameworks/R.framework/Resources/bin/R CMD build --keep-empty-dirs --no-resave-data Rigraphlib StartedAt: 2025-11-19 18:26:42 -0500 (Wed, 19 Nov 2025) EndedAt: 2025-11-19 18:26:51 -0500 (Wed, 19 Nov 2025) EllapsedTime: 9.2 seconds RetCode: 1 Status: ERROR PackageFile: None PackageFileSize: NA