############################################################################## ############################################################################## ### ### Running command: ### ### /Library/Frameworks/R.framework/Resources/bin/R CMD INSTALL Rigraphlib ### ############################################################################## ############################################################################## * installing to library ‘/Library/Frameworks/R.framework/Versions/4.6-x86_64/Resources/library’ * installing *source* package ‘Rigraphlib’ ... ** this is package ‘Rigraphlib’ version ‘1.3.1’ ** using staged installation Error in if (grepl("^[0-9]+\\.[0-9]+\\.[0-9]+[^0-9]", version)) { : argument is of length zero Calls: -> get_version -> to_version Execution halted ERROR: configuration failed for package ‘Rigraphlib’ * removing ‘/Library/Frameworks/R.framework/Versions/4.6-x86_64/Resources/library/Rigraphlib’