Package: Rigraphlib Version: 1.3.1 Command: /Library/Frameworks/R.framework/Resources/bin/R CMD INSTALL Rigraphlib StartedAt: 2025-11-18 15:12:00 -0500 (Tue, 18 Nov 2025) EndedAt: 2025-11-18 15:12:41 -0500 (Tue, 18 Nov 2025) EllapsedTime: 41.1 seconds RetCode: 1 Status: ERROR