Package: Rigraphlib Version: 1.3.1 Command: /home/biocbuild/bbs-3.23-bioc/R/bin/R CMD build --keep-empty-dirs --no-resave-data Rigraphlib StartedAt: 2025-11-19 19:41:08 -0500 (Wed, 19 Nov 2025) EndedAt: 2025-11-19 19:41:21 -0500 (Wed, 19 Nov 2025) EllapsedTime: 13.0 seconds RetCode: 0 Status: OK PackageFile: Rigraphlib_1.3.1.tar.gz PackageFileSize: 4.573 MiB