Package: Rvisdiff Version: 1.9.0 Command: /Library/Frameworks/R.framework/Resources/bin/R CMD check --install=check:Rvisdiff.install-out.txt --library=/Library/Frameworks/R.framework/Resources/library --no-vignettes --timings Rvisdiff_1.9.0.tar.gz StartedAt: 2025-11-19 22:12:43 -0500 (Wed, 19 Nov 2025) EndedAt: 2025-11-19 22:13:59 -0500 (Wed, 19 Nov 2025) EllapsedTime: 75.9 seconds RetCode: 0 Status: OK CheckDir: Rvisdiff.Rcheck Warnings: 0