Package: Rvisdiff Version: 1.9.0 Command: rm -rf Rvisdiff.buildbin-libdir && mkdir Rvisdiff.buildbin-libdir && /Users/biocbuild/BBS/utils/build-universal.sh Rvisdiff_1.9.0.tar.gz /Library/Frameworks/R.framework/Resources/bin/R Rvisdiff.buildbin-libdir StartedAt: 2025-11-20 01:53:44 -0500 (Thu, 20 Nov 2025) EndedAt: 2025-11-20 01:53:54 -0500 (Thu, 20 Nov 2025) EllapsedTime: 9.3 seconds RetCode: 0 Status: OK PackageFile: Rvisdiff_1.9.0.tgz PackageFileSize: 945.7 KiB