Package: Rvisdiff Version: 1.9.0 Command: /Library/Frameworks/R.framework/Resources/bin/R CMD build --keep-empty-dirs --no-resave-data Rvisdiff StartedAt: 2025-11-19 18:31:34 -0500 (Wed, 19 Nov 2025) EndedAt: 2025-11-19 18:32:42 -0500 (Wed, 19 Nov 2025) EllapsedTime: 68.6 seconds RetCode: 0 Status: OK PackageFile: Rvisdiff_1.9.0.tar.gz PackageFileSize: 1.315 MiB