Package: Rvisdiff Version: 1.9.0 Command: /Library/Frameworks/R.framework/Resources/bin/R CMD INSTALL Rvisdiff StartedAt: 2025-11-19 15:12:50 -0500 (Wed, 19 Nov 2025) EndedAt: 2025-11-19 15:13:20 -0500 (Wed, 19 Nov 2025) EllapsedTime: 29.2 seconds RetCode: 0 Status: OK