Package: Rvisdiff Version: 1.9.0 Command: /home/biocbuild/bbs-3.23-bioc/R/bin/R CMD INSTALL Rvisdiff StartedAt: 2025-11-19 15:06:48 -0500 (Wed, 19 Nov 2025) EndedAt: 2025-11-19 15:07:07 -0500 (Wed, 19 Nov 2025) EllapsedTime: 18.5 seconds RetCode: 0 Status: OK