Package: SC3 Version: 1.39.0 Command: /Library/Frameworks/R.framework/Resources/bin/R CMD build --keep-empty-dirs --no-resave-data SC3 StartedAt: 2025-11-21 17:30:53 -0500 (Fri, 21 Nov 2025) EndedAt: 2025-11-21 17:33:49 -0500 (Fri, 21 Nov 2025) EllapsedTime: 176.0 seconds RetCode: 0 Status: OK PackageFile: SC3_1.39.0.tar.gz PackageFileSize: 3.372 MiB