Package: SC3 Version: 1.39.0 Command: /Library/Frameworks/R.framework/Resources/bin/R CMD INSTALL SC3 StartedAt: 2025-11-21 15:12:16 -0500 (Fri, 21 Nov 2025) EndedAt: 2025-11-21 15:12:31 -0500 (Fri, 21 Nov 2025) EllapsedTime: 15.6 seconds RetCode: 0 Status: OK