Package: SCArray.sat Version: 1.11.0 Command: /Library/Frameworks/R.framework/Resources/bin/R CMD INSTALL SCArray.sat StartedAt: 2025-11-19 15:31:20 -0500 (Wed, 19 Nov 2025) EndedAt: 2025-11-19 15:31:38 -0500 (Wed, 19 Nov 2025) EllapsedTime: 18.6 seconds RetCode: 0 Status: OK