Package: SCArray.sat Version: 1.11.0 Command: /Library/Frameworks/R.framework/Resources/bin/R CMD build --keep-empty-dirs --no-resave-data SCArray.sat StartedAt: 2025-11-19 18:33:21 -0500 (Wed, 19 Nov 2025) EndedAt: 2025-11-19 18:34:40 -0500 (Wed, 19 Nov 2025) EllapsedTime: 79.2 seconds RetCode: 1 Status: ERROR PackageFile: None PackageFileSize: NA